BEGIN:VCALENDAR
VERSION:2.0
PRODID:-//The Bubble - ECPv6.15.20//NONSGML v1.0//EN
CALSCALE:GREGORIAN
METHOD:PUBLISH
X-WR-CALNAME:The Bubble
X-ORIGINAL-URL:https://thebubblecornwall.co.uk
X-WR-CALDESC:Events for The Bubble
REFRESH-INTERVAL;VALUE=DURATION:PT1H
X-Robots-Tag:noindex
X-PUBLISHED-TTL:PT1H
BEGIN:VTIMEZONE
TZID:UTC
BEGIN:STANDARD
TZOFFSETFROM:+0000
TZOFFSETTO:+0000
TZNAME:UTC
DTSTART:20250101T000000
END:STANDARD
END:VTIMEZONE
BEGIN:VEVENT
DTSTART;TZID=UTC:20260425T210000
DTEND;TZID=UTC:20260425T233000
DTSTAMP:20260418T123813
CREATED:20250809T092523Z
LAST-MODIFIED:20250809T092927Z
UID:711-1777150800-1777159800@thebubblecornwall.co.uk
SUMMARY:Polperro Legion
DESCRIPTION:
URL:https://thebubblecornwall.co.uk/?tribe_events=polperro-legion-2
END:VEVENT
BEGIN:VEVENT
DTSTART;TZID=UTC:20260502T173000
DTEND;TZID=UTC:20260502T193000
DTSTAMP:20260418T123813
CREATED:20250807T083647Z
LAST-MODIFIED:20250807T083647Z
UID:704-1777743000-1777750200@thebubblecornwall.co.uk
SUMMARY:Pirate Inn\, Penzance
DESCRIPTION:
URL:https://thebubblecornwall.co.uk/?tribe_events=pirate-inn-penzance-6
END:VEVENT
BEGIN:VEVENT
DTSTART;TZID=UTC:20260508T210000
DTEND;TZID=UTC:20260508T233000
DTSTAMP:20260418T123813
CREATED:20251007T170517Z
LAST-MODIFIED:20251007T170517Z
UID:756-1778274000-1778283000@thebubblecornwall.co.uk
SUMMARY:Old Ale House\, Truro
DESCRIPTION:
URL:https://thebubblecornwall.co.uk/?tribe_events=old-ale-house-truro-7
END:VEVENT
BEGIN:VEVENT
DTSTART;TZID=UTC:20260516T213000
DTEND;TZID=UTC:20260516T233000
DTSTAMP:20260418T123813
CREATED:20260213T082523Z
LAST-MODIFIED:20260213T082523Z
UID:797-1778967000-1778974200@thebubblecornwall.co.uk
SUMMARY:Red Lion\, Newquay
DESCRIPTION:
URL:https://thebubblecornwall.co.uk/?tribe_events=red-lion-newquay-13
END:VEVENT
BEGIN:VEVENT
DTSTART;TZID=UTC:20260522T210000
DTEND;TZID=UTC:20260522T230000
DTSTAMP:20260418T123813
CREATED:20251001T181827Z
LAST-MODIFIED:20251001T181827Z
UID:744-1779483600-1779490800@thebubblecornwall.co.uk
SUMMARY:Carlyon Arms 'The Sandy'\, St. Austell
DESCRIPTION:
URL:https://thebubblecornwall.co.uk/?tribe_events=carlyon-arms-the-sandy-st-austell-9
END:VEVENT
BEGIN:VEVENT
DTSTART;TZID=UTC:20260523T200000
DTEND;TZID=UTC:20260523T223000
DTSTAMP:20260418T123813
CREATED:20260321T083056Z
LAST-MODIFIED:20260321T083056Z
UID:811-1779566400-1779575400@thebubblecornwall.co.uk
SUMMARY:Engine Inn\, Cripplesease
DESCRIPTION:
URL:https://thebubblecornwall.co.uk/?tribe_events=engine-inn-cripplesease-2
END:VEVENT
BEGIN:VEVENT
DTSTART;TZID=UTC:20260525T150000
DTEND;TZID=UTC:20260525T170000
DTSTAMP:20260418T123813
CREATED:20260113T193422Z
LAST-MODIFIED:20260113T193422Z
UID:778-1779721200-1779728400@thebubblecornwall.co.uk
SUMMARY:The Lugger\, Penzance
DESCRIPTION:
URL:https://thebubblecornwall.co.uk/?tribe_events=the-lugger-penzance-9
END:VEVENT
BEGIN:VEVENT
DTSTART;TZID=UTC:20260529T213000
DTEND;TZID=UTC:20260529T233000
DTSTAMP:20260418T123813
CREATED:20260315T075614Z
LAST-MODIFIED:20260315T075614Z
UID:807-1780090200-1780097400@thebubblecornwall.co.uk
SUMMARY:Tyacks\, Camborne
DESCRIPTION:
URL:https://thebubblecornwall.co.uk/?tribe_events=tyacks-camborne-6
END:VEVENT
BEGIN:VEVENT
DTSTART;TZID=UTC:20260530T210000
DTEND;TZID=UTC:20260530T230000
DTSTAMP:20260418T123813
CREATED:20260111T104936Z
LAST-MODIFIED:20260111T104936Z
UID:771-1780174800-1780182000@thebubblecornwall.co.uk
SUMMARY:The Snow Bar\, Par
DESCRIPTION:
URL:https://thebubblecornwall.co.uk/?tribe_events=the-snow-bar-par-5
END:VEVENT
BEGIN:VEVENT
DTSTART;TZID=UTC:20260606T210000
DTEND;TZID=UTC:20260606T233000
DTSTAMP:20260418T123813
CREATED:20250809T092625Z
LAST-MODIFIED:20260112T160337Z
UID:713-1780779600-1780788600@thebubblecornwall.co.uk
SUMMARY:Polperro Legion
DESCRIPTION:
URL:https://thebubblecornwall.co.uk/?tribe_events=polperro-legion-3
END:VEVENT
BEGIN:VEVENT
DTSTART;TZID=UTC:20260612T210000
DTEND;TZID=UTC:20260612T230000
DTSTAMP:20260418T123813
CREATED:20251013T105756Z
LAST-MODIFIED:20251013T105756Z
UID:760-1781298000-1781305200@thebubblecornwall.co.uk
SUMMARY:Calstock Social Club
DESCRIPTION:
URL:https://thebubblecornwall.co.uk/?tribe_events=calstock-social-club-3
END:VEVENT
BEGIN:VEVENT
DTSTART;TZID=UTC:20260621T160000
DTEND;TZID=UTC:20260621T190000
DTSTAMP:20260418T123813
CREATED:20260202T105959Z
LAST-MODIFIED:20260202T105959Z
UID:788-1782057600-1782068400@thebubblecornwall.co.uk
SUMMARY:Arwenack Club\, Falmouth
DESCRIPTION:
URL:https://thebubblecornwall.co.uk/?tribe_events=arwenack-club-falmouth-12
END:VEVENT
BEGIN:VEVENT
DTSTART;TZID=UTC:20260626T210000
DTEND;TZID=UTC:20260626T233000
DTSTAMP:20260418T123813
CREATED:20250904T103208Z
LAST-MODIFIED:20250904T103208Z
UID:731-1782507600-1782516600@thebubblecornwall.co.uk
SUMMARY:Galleon\,  Fowey
DESCRIPTION:
URL:https://thebubblecornwall.co.uk/?tribe_events=galleon-fowey-3
END:VEVENT
BEGIN:VEVENT
DTSTART;TZID=UTC:20260627T200000
DTEND;TZID=UTC:20260627T223000
DTSTAMP:20260418T123813
CREATED:20260111T105332Z
LAST-MODIFIED:20260111T105419Z
UID:775-1782590400-1782599400@thebubblecornwall.co.uk
SUMMARY:Mounts Bay Gig Club Regatta
DESCRIPTION:
URL:https://thebubblecornwall.co.uk/?tribe_events=mounts-bar-gig-club-regatta
END:VEVENT
BEGIN:VEVENT
DTSTART;TZID=UTC:20260703T210000
DTEND;TZID=UTC:20260703T230000
DTSTAMP:20260418T123813
CREATED:20250823T090947Z
LAST-MODIFIED:20250823T090947Z
UID:727-1783112400-1783119600@thebubblecornwall.co.uk
SUMMARY:Trickys\, Redruth
DESCRIPTION:
URL:https://thebubblecornwall.co.uk/?tribe_events=trickys-redruth-10
END:VEVENT
BEGIN:VEVENT
DTSTART;TZID=UTC:20260705T150000
DTEND;TZID=UTC:20260705T170000
DTSTAMP:20260418T123813
CREATED:20260321T082957Z
LAST-MODIFIED:20260321T082957Z
UID:809-1783263600-1783270800@thebubblecornwall.co.uk
SUMMARY:Old Albion\, Crantock
DESCRIPTION:
URL:https://thebubblecornwall.co.uk/?tribe_events=old-albion-crantock
END:VEVENT
BEGIN:VEVENT
DTSTART;TZID=UTC:20260718T213000
DTEND;TZID=UTC:20260718T233000
DTSTAMP:20260418T123813
CREATED:20250823T090231Z
LAST-MODIFIED:20250823T090231Z
UID:721-1784410200-1784417400@thebubblecornwall.co.uk
SUMMARY:The Club\, Penzance
DESCRIPTION:
URL:https://thebubblecornwall.co.uk/?tribe_events=the-club-penzance-10
END:VEVENT
BEGIN:VEVENT
DTSTART;TZID=UTC:20260724T210000
DTEND;TZID=UTC:20260724T230000
DTSTAMP:20260418T123813
CREATED:20251001T181922Z
LAST-MODIFIED:20251001T181922Z
UID:746-1784926800-1784934000@thebubblecornwall.co.uk
SUMMARY:The Swordfish\,  Newlyn
DESCRIPTION:
URL:https://thebubblecornwall.co.uk/?tribe_events=the-swordfish-newlyn-3
END:VEVENT
BEGIN:VEVENT
DTSTART;TZID=UTC:20260726T170000
DTEND;TZID=UTC:20260726T190000
DTSTAMP:20260418T123813
CREATED:20250916T190130Z
LAST-MODIFIED:20250916T190130Z
UID:736-1785085200-1785092400@thebubblecornwall.co.uk
SUMMARY:Royal Oak\, Lostwithiel
DESCRIPTION:
URL:https://thebubblecornwall.co.uk/?tribe_events=royal-oak-lostwithiel
END:VEVENT
BEGIN:VEVENT
DTSTART;TZID=UTC:20260801T210000
DTEND;TZID=UTC:20260801T230000
DTSTAMP:20260418T123813
CREATED:20251001T182404Z
LAST-MODIFIED:20260112T160806Z
UID:752-1785618000-1785625200@thebubblecornwall.co.uk
SUMMARY:Mousehole Carnival at the Legion
DESCRIPTION:
URL:https://thebubblecornwall.co.uk/?tribe_events=mousehole-carnival-at-the-legion
END:VEVENT
BEGIN:VEVENT
DTSTART;TZID=UTC:20260802T150000
DTEND;TZID=UTC:20260802T170000
DTSTAMP:20260418T123813
CREATED:20260113T193531Z
LAST-MODIFIED:20260113T193531Z
UID:780-1785682800-1785690000@thebubblecornwall.co.uk
SUMMARY:The Lugger\, Penzance
DESCRIPTION:
URL:https://thebubblecornwall.co.uk/?tribe_events=the-lugger-penzance-10
END:VEVENT
BEGIN:VEVENT
DTSTART;TZID=UTC:20260807T203000
DTEND;TZID=UTC:20260807T230000
DTSTAMP:20260418T123813
CREATED:20260330T090333Z
LAST-MODIFIED:20260330T090333Z
UID:815-1786134600-1786143600@thebubblecornwall.co.uk
SUMMARY:Harbour Inn\, Padstow
DESCRIPTION:
URL:https://thebubblecornwall.co.uk/?tribe_events=harbour-inn-padstow
END:VEVENT
BEGIN:VEVENT
DTSTART;TZID=UTC:20260815T173000
DTEND;TZID=UTC:20260815T193000
DTSTAMP:20260418T123813
CREATED:20250807T083745Z
LAST-MODIFIED:20250807T083745Z
UID:706-1786815000-1786822200@thebubblecornwall.co.uk
SUMMARY:Pirate Inn\, Penzance
DESCRIPTION:
URL:https://thebubblecornwall.co.uk/?tribe_events=pirate-inn-penzance-7
END:VEVENT
BEGIN:VEVENT
DTSTART;TZID=UTC:20260822T210000
DTEND;TZID=UTC:20260822T233000
DTSTAMP:20260418T123813
CREATED:20250809T092736Z
LAST-MODIFIED:20250809T092736Z
UID:715-1787432400-1787441400@thebubblecornwall.co.uk
SUMMARY:Polperro Legion
DESCRIPTION:
URL:https://thebubblecornwall.co.uk/?tribe_events=polperro-legion-4
END:VEVENT
BEGIN:VEVENT
DTSTART;TZID=UTC:20260829T213000
DTEND;TZID=UTC:20260829T233000
DTSTAMP:20260418T123813
CREATED:20260213T082616Z
LAST-MODIFIED:20260213T082616Z
UID:799-1788039000-1788046200@thebubblecornwall.co.uk
SUMMARY:Red Lion\, Newquay
DESCRIPTION:
URL:https://thebubblecornwall.co.uk/?tribe_events=red-lion-newquay-14
END:VEVENT
BEGIN:VEVENT
DTSTART;TZID=UTC:20260830T160000
DTEND;TZID=UTC:20260830T190000
DTSTAMP:20260418T123813
CREATED:20260202T110038Z
LAST-MODIFIED:20260202T110038Z
UID:790-1788105600-1788116400@thebubblecornwall.co.uk
SUMMARY:Arwenack Club\, Falmouth
DESCRIPTION:
URL:https://thebubblecornwall.co.uk/?tribe_events=arwenack-club-falmouth-13
END:VEVENT
BEGIN:VEVENT
DTSTART;TZID=UTC:20260904T200000
DTEND;TZID=UTC:20260904T223000
DTSTAMP:20260418T123813
CREATED:20260403T090846Z
LAST-MODIFIED:20260403T090846Z
UID:818-1788552000-1788561000@thebubblecornwall.co.uk
SUMMARY:Farmers Arms\,  St. Merryn
DESCRIPTION:
URL:https://thebubblecornwall.co.uk/?tribe_events=farmers-arms-st-merryn
END:VEVENT
BEGIN:VEVENT
DTSTART;TZID=UTC:20260906T150000
DTEND;TZID=UTC:20260906T170000
DTSTAMP:20260418T123813
CREATED:20260324T093011Z
LAST-MODIFIED:20260324T093011Z
UID:813-1788706800-1788714000@thebubblecornwall.co.uk
SUMMARY:Old Albion\, Crantock
DESCRIPTION:
URL:https://thebubblecornwall.co.uk/?tribe_events=old-albion-crantock-2
END:VEVENT
BEGIN:VEVENT
DTSTART;TZID=UTC:20260912T210000
DTEND;TZID=UTC:20260912T230000
DTSTAMP:20260418T123813
CREATED:20260111T105050Z
LAST-MODIFIED:20260111T105050Z
UID:773-1789246800-1789254000@thebubblecornwall.co.uk
SUMMARY:The Snow Bar\,  Par
DESCRIPTION:
URL:https://thebubblecornwall.co.uk/?tribe_events=the-snow-bar-par-6
END:VEVENT
BEGIN:VEVENT
DTSTART;TZID=UTC:20261017T213000
DTEND;TZID=UTC:20261017T233000
DTSTAMP:20260418T123813
CREATED:20260213T082715Z
LAST-MODIFIED:20260213T082715Z
UID:801-1792272600-1792279800@thebubblecornwall.co.uk
SUMMARY:Red Lion\, Newquay
DESCRIPTION:
URL:https://thebubblecornwall.co.uk/?tribe_events=red-lion-newquay-15
END:VEVENT
END:VCALENDAR